BEGIN:VCALENDAR
PRODID:-//Microsoft Corporation//Outlook 16.0 MIMEDIR//EN
VERSION:2.0
METHOD:PUBLISH
X-MS-OLK-FORCEINSPECTOROPEN:TRUE
BEGIN:VTIMEZONE
TZID:W. Europe Standard Time
BEGIN:STANDARD
DTSTART:16011028T030000
RRULE:FREQ=YEARLY;BYDAY=-1SU;BYMONTH=10
TZOFFSETFROM:+0200
TZOFFSETTO:+0100
END:STANDARD
BEGIN:DAYLIGHT
DTSTART:16010325T020000
RRULE:FREQ=YEARLY;BYDAY=-1SU;BYMONTH=3
TZOFFSETFROM:+0100
TZOFFSETTO:+0200
END:DAYLIGHT
END:VTIMEZONE
BEGIN:VEVENT
CLASS:PUBLIC
CREATED:20210511T063845Z
DESCRIPTION:Einwahldaten folgen in der Veranstaltungswoche \nSeminartitel:
Software-QS-Cast - Application Performance Monitoring\nDatum: 27.Mai 2021\
nUhrzeit: 10:30 - ca.12:00 Uhr \n \n
DTEND;TZID="W. Europe Standard Time":20210527T120000
DTSTAMP:20210511T063845Z
DTSTART;TZID="W. Europe Standard Time":20210527T103000
LAST-MODIFIED:20210511T063845Z
PRIORITY:5
SEQUENCE:0
SUMMARY;LANGUAGE=de:Software-QS-Cast Application Performance Monitoring
TRANSP:OPAQUE
UID:040000008200E000*************00800000000*****************00000000000000
010000000********************************
X-MICROSOFT-CDO-BUSYSTATUS:BUSY
X-MICROSOFT-CDO-IMPORTANCE:1
X-MICROSOFT-DISALLOW-COUNTER:FALSE
X-MS-OLK-CONFTYPE:0
BEGIN:VALARM
TRIGGER:-PT15M
ACTION:DISPLAY
DESCRIPTION:Reminder
END:VALARM
END:VEVENT
END:VCALENDAR